BEGIN:VCALENDAR
VERSION:2.0
PRODID:-//South Boston - Halifax County Museum of Fine Arts and History - ECPv5.14.1//NONSGML v1.0//EN
CALSCALE:GREGORIAN
METHOD:PUBLISH
X-WR-CALNAME:South Boston - Halifax County Museum of Fine Arts and History
X-ORIGINAL-URL:https://sbhcmuseum.org
X-WR-CALDESC:Events for South Boston - Halifax County Museum of Fine Arts and History
BEGIN:VTIMEZONE
TZID:America/New_York
BEGIN:DAYLIGHT
TZOFFSETFROM:-0500
TZOFFSETTO:-0400
TZNAME:EDT
DTSTART:20180311T070000
END:DAYLIGHT
BEGIN:STANDARD
TZOFFSETFROM:-0400
TZOFFSETTO:-0500
TZNAME:EST
DTSTART:20181104T060000
END:STANDARD
END:VTIMEZONE
BEGIN:VEVENT
DTSTART;TZID=America/New_York:20181012T110000
DTEND;TZID=America/New_York:20181012T130000
DTSTAMP:20260423T160059
CREATED:20180904T152103Z
LAST-MODIFIED:20180926T175458Z
UID:1283-1539342000-1539349200@sbhcmuseum.org
SUMMARY:The Role of Hardscape in Landscape
DESCRIPTION:“The Role of Hardscape in the Landscape” by Master Gardener Jean Blanton \nHardscape gives the garden its “bones” or structure.  It can be as simple as a birdbath or a bench or more complex such as a pergola or arbor.  Hardscape can be used to define a space\, hide an eyesore or control a slope.  Walkways and patios are also considered hardscape.  Jean will discuss how to plan hardscape into your garden and make it functional and enjoyable for garden visitors.
URL:https://sbhcmuseum.org/event/the-role-hardscape-in-landscape/
LOCATION:South Boston – Halifax County Museum of Fine Arts and History\, 1540 Wilborn Ave\, South Boston\, VA\, 24592\, United States
CATEGORIES:Master Gardeners
ATTACH;FMTTYPE=image/jpeg:https://sbhcmuseum.org/wp-content/uploads/2018/09/IMG_3327.jpg
END:VEVENT
END:VCALENDAR